View In:
ArcGIS JavaScript
ArcGIS Online Map Viewer
ArcGIS Earth
Service Description: Regional wind field rasters are produced using the Tropical Cyclone Risk Model which applies a parametric wind field model (Powell et al., 2005) to each synthetic event to map the wind swath around each modelled track. This wind field model describes the intensity of the cyclone winds at ground level, incorporating the effects of the forward motion of the TC (Kepert, 2001).
Wind speeds given in m/s
Further information on wind fields for all scenarios including references, is available in the Severe Wind Hazard Assessment – Queensland project report
Name: Testing/TEST_001_00406
Description: Regional wind field rasters are produced using the Tropical Cyclone Risk Model which applies a parametric wind field model (Powell et al., 2005) to each synthetic event to map the wind swath around each modelled track. This wind field model describes the intensity of the cyclone winds at ground level, incorporating the effects of the forward motion of the TC (Kepert, 2001).
Wind speeds given in m/s
Further information on wind fields for all scenarios including references, is available in the Severe Wind Hazard Assessment – Queensland project report
Single Fused Map Cache: true
Tile Info:
- Height: 256
- Width: 256
- DPI: 96
-
Levels of Detail: 23
-
Level ID: 7
[ Start Tile, End Tile ]
- Resolution: 0.0054931640625
- Scale: 2311162.2171551147
-
Level ID: 8
[ Start Tile, End Tile ]
- Resolution: 0.00274658203125
- Scale: 1155581.1085775574
-
Level ID: 9
[ Start Tile, End Tile ]
- Resolution: 0.001373291015625
- Scale: 577790.5542887787
-
Level ID: 10
[ Start Tile, End Tile ]
- Resolution: 6.866455078125E-4
- Scale: 288895.27714438934
-
Level ID: 11
[ Start Tile, End Tile ]
- Resolution: 3.4332275390625E-4
- Scale: 144447.63857219467
-
Level ID: 12
[ Start Tile, End Tile ]
- Resolution: 1.71661376953125E-4
- Scale: 72223.81928609734
-
Level ID: 13
[ Start Tile, End Tile ]
- Resolution: 8.58306884765625E-5
- Scale: 36111.90964304867
-
Level ID: 14
[ Start Tile, End Tile ]
- Resolution: 4.291534423828125E-5
- Scale: 18055.954821524334
-
Level ID: 15
[ Start Tile, End Tile ]
- Resolution: 2.1457672119140625E-5
- Scale: 9027.977410762167
-
Level ID: 16
[ Start Tile, End Tile ]
- Resolution: 1.0728836059570312E-5
- Scale: 4513.9887053810835
-
Level ID: 17
[ Start Tile, End Tile ]
- Resolution: 5.364418029785156E-6
- Scale: 2256.9943526905417
-
Level ID: 18
[ Start Tile, End Tile ]
- Resolution: 2.682209014892578E-6
- Scale: 1128.4971763452709
-
Level ID: 19
[ Start Tile, End Tile ]
- Resolution: 1.341104507446289E-6
- Scale: 564.2485881726354
-
Level ID: 20
[ Start Tile, End Tile ]
- Resolution: 6.705522537231445E-7
- Scale: 282.1242940863177
-
Level ID: 21
[ Start Tile, End Tile ]
- Resolution: 3.3527612686157227E-7
- Scale: 141.06214704315886
-
Level ID: 22
[ Start Tile, End Tile ]
- Resolution: 1.6763806343078613E-7
- Scale: 70.53107352157943
- Format: JPEG
- Compression Quality: 75.0
- LERC Error: NaN
- Origin: X: -180.0
Y: 90.0
- Spatial Reference: 4326
(4326)
LatestVCSWkid(0)
Storage Info:
- Storage Format: esriMapCacheStorageModeCompactV2
- Packet Size: 128
Extent:
XMin: 146.98999999999998
YMin: -40.01000000000003
XMax: 166.03000000000978
YMax: -2.9899999999999984
Spatial Reference: 4326
(4326)
LatestVCSWkid(0)
Initial Extent:
XMin: 146.98999999999998
YMin: -40.01000000000003
XMax: 166.03000000000978
YMax: -2.9899999999999984
Spatial Reference: 4326
(4326)
LatestVCSWkid(0)
Full Extent:
XMin: 146.98999999999998
YMin: -40.01000000000003
XMax: 166.03000000000978
YMax: -2.9899999999999984
Spatial Reference: 4326
(4326)
LatestVCSWkid(0)
Pixel Size X: 0.02000000000001029
Pixel Size Y: 0.02000000000000002
Band Count: 1
Pixel Type: F32
RasterFunction Infos: {"rasterFunctionInfos": [{
"name": "None",
"description": "",
"help": ""
}]}
Mensuration Capabilities: Basic
Inspection Capabilities:
Has Histograms: true
Has Colormap: false
Has Multi Dimensions : false
Rendering Rule:
Min Scale: 7.395719094896367E7
Max Scale: 36111.90964304867
Min LOD: 2
Max LOD: 13
Copyright Text: Created by Geoscience Australia for the Severe Wind Hazard Assessment - Queensland project
Service Data Type: esriImageServiceDataTypeGeneric
Min Values: 0
Max Values: 79.88965606689453
Mean Values: 13.190120735817066
Standard Deviation Values: 14.000593798426825
Object ID Field:
Fields:
None
Default Mosaic Method: Center
Allowed Mosaic Methods:
SortField:
SortValue: null
Mosaic Operator: First
Default Compression Quality: 75
Default Resampling Method: Bilinear
Max Record Count: null
Max Image Height: 4100
Max Image Width: 15000
Max Download Image Count: null
Max Mosaic Image Count: null
Allow Raster Function: true
Allow Copy: false
Allow Analysis: false
Allow Compute TiePoints: false
Supports Statistics: false
Supports Advanced Queries: false
Use StandardizedQueries: true
Raster Type Infos:
Name: Raster Dataset
Description: Supports all ArcGIS Raster Datasets
Help:
Has Raster Attribute Table: false
Edit Fields Info: null
Ownership Based AccessControl For Rasters: null
Child Resources:
Info
Histograms
Statistics
Key Properties
Legend
Raster Function Infos
Supported Operations:
Export Image
Identify
Measure
Compute Histograms
Compute Statistics Histograms
Get Samples
Compute Class Statistics
Query Boundary
Compute Pixel Location
Compute Angles
Validate
Project