{ "currentVersion": 11.3, "serviceDescription": "
Regional wind field rasters are produced using the Tropical Cyclone Risk Model which applies a parametric wind field model (Powell et al., 2005) to each synthetic event to map the wind swath around each modelled track. This wind field model describes the intensity of the cyclone winds at ground level, incorporating the effects of the forward motion of the TC (Kepert, 2001).<\/SPAN><\/SPAN><\/P> <\/P> Wind speeds given in m/s<\/SPAN><\/P> Further information on wind fields for all scenarios including references, is available in the Severe Wind Hazard Assessment \u2013 Queensland project report<\/SPAN><\/SPAN><\/P><\/DIV><\/DIV><\/DIV>",
"name": "Testing/TEST_001_00406",
"description": " Regional wind field rasters are produced using the Tropical Cyclone Risk Model which applies a parametric wind field model (Powell et al., 2005) to each synthetic event to map the wind swath around each modelled track. This wind field model describes the intensity of the cyclone winds at ground level, incorporating the effects of the forward motion of the TC (Kepert, 2001).<\/SPAN><\/SPAN><\/P> <\/P> Wind speeds given in m/s<\/SPAN><\/P> Further information on wind fields for all scenarios including references, is available in the Severe Wind Hazard Assessment \u2013 Queensland project report<\/SPAN><\/SPAN><\/P><\/DIV><\/DIV><\/DIV>",
"extent": {
"xmin": 146.98999999999998,
"ymin": -40.01000000000003,
"xmax": 166.03000000000978,
"ymax": -2.9899999999999984,
"spatialReference": {
"wkid": 4326,
"latestWkid": 4326
}
},
"initialExtent": {
"xmin": 146.98999999999998,
"ymin": -40.01000000000003,
"xmax": 166.03000000000978,
"ymax": -2.9899999999999984,
"spatialReference": {
"wkid": 4326,
"latestWkid": 4326
}
},
"fullExtent": {
"xmin": 146.98999999999998,
"ymin": -40.01000000000003,
"xmax": 166.03000000000978,
"ymax": -2.9899999999999984,
"spatialReference": {
"wkid": 4326,
"latestWkid": 4326
}
},
"sortableFields": "",
"bandCount": 1,
"pixelType": "F32",
"minValues": [
0
],
"maxValues": [
79.88965606689453
],
"meanValues": [
13.190120735817066
],
"stdvValues": [
14.000593798426825
],
"hasMultidimensions": false,
"pixelSizeX": 0.02000000000001029,
"pixelSizeY": 0.02000000000000002,
"meanPixelSize": 2226.3898158660454,
"datasetFormat": "SDR",
"uncompressedSize": 7048608,
"blockWidth": 128,
"blockHeight": 128,
"compressionType": "NONE",
"bandNames": [
"Band_1"
],
"allowCopy": false,
"allowAnalysis": false,
"itemAccess": false,
"inspectionCapabilities": "",
"minPixelSize": 8.58306884765625E-5,
"maxPixelSize": 0.17578125,
"copyrightText": "Created by Geoscience Australia for the Severe Wind Hazard Assessment - Queensland project",
"serviceDataType": "esriImageServiceDataTypeGeneric",
"serviceSourceType": "esriImageServiceSourceTypeDataset",
"objectIdField": "",
"fields": [],
"capabilities": "Image,Metadata,Mensuration",
"defaultMosaicMethod": "Center",
"allowedMosaicMethods": "",
"sortField": "",
"sortValue": null,
"sortAscending": true,
"mosaicOperator": "First",
"defaultCompressionQuality": 75,
"defaultResamplingMethod": "Bilinear",
"maxImageHeight": 4100,
"maxImageWidth": 15000,
"singleFusedMapCache": true,
"tileInfo": {
"rows": 256,
"cols": 256,
"dpi": 96,
"format": "JPEG",
"compressionQuality": 75,
"origin": {
"x": -180,
"y": 90
},
"spatialReference": {
"wkid": 4326,
"latestWkid": 4326
},
"lods": [
{
"level": 0,
"resolution": 0.703125,
"scale": 2.958287637958547E8
},
{
"level": 1,
"resolution": 0.3515625,
"scale": 1.4791438189792734E8
},
{
"level": 2,
"resolution": 0.17578125,
"scale": 7.395719094896367E7
},
{
"level": 3,
"resolution": 0.087890625,
"scale": 3.6978595474481836E7
},
{
"level": 4,
"resolution": 0.0439453125,
"scale": 1.8489297737240918E7
},
{
"level": 5,
"resolution": 0.02197265625,
"scale": 9244648.868620459
},
{
"level": 6,
"resolution": 0.010986328125,
"scale": 4622324.4343102295
},
{
"level": 7,
"resolution": 0.0054931640625,
"scale": 2311162.2171551147
},
{
"level": 8,
"resolution": 0.00274658203125,
"scale": 1155581.1085775574
},
{
"level": 9,
"resolution": 0.001373291015625,
"scale": 577790.5542887787
},
{
"level": 10,
"resolution": 6.866455078125E-4,
"scale": 288895.27714438934
},
{
"level": 11,
"resolution": 3.4332275390625E-4,
"scale": 144447.63857219467
},
{
"level": 12,
"resolution": 1.71661376953125E-4,
"scale": 72223.81928609734
},
{
"level": 13,
"resolution": 8.58306884765625E-5,
"scale": 36111.90964304867
},
{
"level": 14,
"resolution": 4.291534423828125E-5,
"scale": 18055.954821524334
},
{
"level": 15,
"resolution": 2.1457672119140625E-5,
"scale": 9027.977410762167
},
{
"level": 16,
"resolution": 1.0728836059570312E-5,
"scale": 4513.9887053810835
},
{
"level": 17,
"resolution": 5.364418029785156E-6,
"scale": 2256.9943526905417
},
{
"level": 18,
"resolution": 2.682209014892578E-6,
"scale": 1128.4971763452709
},
{
"level": 19,
"resolution": 1.341104507446289E-6,
"scale": 564.2485881726354
},
{
"level": 20,
"resolution": 6.705522537231445E-7,
"scale": 282.1242940863177
},
{
"level": 21,
"resolution": 3.3527612686157227E-7,
"scale": 141.06214704315886
},
{
"level": 22,
"resolution": 1.6763806343078613E-7,
"scale": 70.53107352157943
}
]
},
"storageInfo": {
"storageFormat": "esriMapCacheStorageModeCompactV2",
"packetSize": 128
},
"cacheType": "Map",
"allowRasterFunction": true,
"rasterFunctionInfos": [
{
"name": "None",
"description": "",
"help": ""
}
],
"rasterTypeInfos": [
{
"name": "Raster Dataset",
"description": "Supports all ArcGIS Raster Datasets",
"help": ""
}
],
"mensurationCapabilities": "Basic",
"hasHistograms": true,
"hasColormap": false,
"hasRasterAttributeTable": false,
"minScale": 7.395719094896367E7,
"maxScale": 36111.90964304867,
"minLOD": 2,
"maxLOD": 13,
"exportTilesAllowed": false,
"supportsStatistics": false,
"supportsAdvancedQueries": false,
"editFieldsInfo": null,
"ownershipBasedAccessControlForRasters": null,
"allowComputeTiePoints": false,
"useStandardizedQueries": true,
"advancedQueryCapabilities": {
"useStandardizedQueries": true,
"supportsStatistics": false,
"supportsOrderBy": false,
"supportsDistinct": false,
"supportsPagination": false
},
"spatialReference": {
"wkid": 4326,
"latestWkid": 4326
}
}