View In:
ArcGIS JavaScript
ArcGIS Online Map Viewer
ArcGIS Earth
Service Description: Local wind fields are calculated by applying local wind multipliers to regional wind fields. Wind speeds represent the 0.2-second duration wind gust at 10 m above ground level. Local influences of topography and land cover are incorporated in the local wind fields using wind multipliers.
Further information on local wind fields for all scenarios is available in the Severe Wind Hazard Assessment – South East Queensland project report
Name: Testing/TEST_windfields_local_004_08495
Description: Local wind fields are calculated by applying local wind multipliers to regional wind fields. Wind speeds represent the 0.2-second duration wind gust at 10 m above ground level. Local influences of topography and land cover are incorporated in the local wind fields using wind multipliers.
Further information on local wind fields for all scenarios is available in the Severe Wind Hazard Assessment – South East Queensland project report
Single Fused Map Cache: true
Tile Info:
- Height: 256
- Width: 256
- DPI: 96
-
Levels of Detail: 24
-
Level ID: 1
[ Start Tile, End Tile ]
- Resolution: 78271.5169639999
- Scale: 2.95828763795777E8
-
Level ID: 2
[ Start Tile, End Tile ]
- Resolution: 39135.7584820001
- Scale: 1.47914381897889E8
-
Level ID: 3
[ Start Tile, End Tile ]
- Resolution: 19567.8792409999
- Scale: 7.3957190948944E7
-
Level ID: 4
[ Start Tile, End Tile ]
- Resolution: 9783.93962049996
- Scale: 3.6978595474472E7
-
Level ID: 5
[ Start Tile, End Tile ]
- Resolution: 4891.96981024998
- Scale: 1.8489297737236E7
- Format: PNG8
- Compression Quality: 0.0
- LERC Error: NaN
- Origin: X: -2.0037508342787E7
Y: 2.0037508342787E7
- Spatial Reference: 102100
(3857)
LatestVCSWkid(0)
Storage Info:
- Storage Format: esriMapCacheStorageModeCompactV2
- Packet Size: 128
Extent:
XMin: 1.6697913163744083E7
YMin: -3503533.427922202
XMax: 1.710296198362843E7
YMax: -2753390.2926106947
Spatial Reference: 102100
(3857)
LatestVCSWkid(0)
Initial Extent:
XMin: 1.6697913163744083E7
YMin: -3503533.427922202
XMax: 1.710296198362843E7
YMax: -2753390.2926106947
Spatial Reference: 102100
(3857)
LatestVCSWkid(0)
Full Extent:
XMin: 1.6697913163744083E7
YMin: -3503533.427922202
XMax: 1.710296198362843E7
YMax: -2753390.2926106947
Spatial Reference: 102100
(3857)
LatestVCSWkid(0)
Pixel Size X: 30.922117710080773
Pixel Size Y: 30.922176151088262
Band Count: 1
Pixel Type: F32
RasterFunction Infos: {"rasterFunctionInfos": [
{
"name": "SEQ Category 3 Local Wind Field (004-08495)",
"description": "SEQ Category 3 Local Wind Field (004-08495)",
"help": ""
},
{
"name": "None",
"description": "",
"help": ""
}
]}
Mensuration Capabilities: Basic
Inspection Capabilities:
Has Histograms: true
Has Colormap: false
Has Multi Dimensions : false
Rendering Rule:
Min Scale: 3.6978595474472E7
Max Scale: 72223.819286
Min LOD: 4
Max LOD: 13
Copyright Text: Produced by Geoscience Australia for the Severe Wind Hazard Assessment for South East Queensland project
Service Data Type: esriImageServiceDataTypeGeneric
Min Values: -3573748.25
Max Values: 300.0189514160156
Mean Values: -47.8594131122478
Standard Deviation Values: 12611.870497625192
Object ID Field:
Fields:
None
Default Mosaic Method: Center
Allowed Mosaic Methods:
SortField:
SortValue: null
Mosaic Operator: First
Default Compression Quality: 75
Default Resampling Method: Bilinear
Max Record Count: null
Max Image Height: 4100
Max Image Width: 15000
Max Download Image Count: null
Max Mosaic Image Count: null
Allow Raster Function: true
Allow Copy: true
Allow Analysis: true
Allow Compute TiePoints: false
Supports Statistics: false
Supports Advanced Queries: false
Use StandardizedQueries: true
Raster Type Infos:
Name: Raster Dataset
Description: Supports all ArcGIS Raster Datasets
Help:
Has Raster Attribute Table: false
Edit Fields Info: null
Ownership Based AccessControl For Rasters: null
Child Resources:
Info
Histograms
Statistics
Key Properties
Legend
Raster Function Infos
Supported Operations:
Export Image
Identify
Measure
Compute Histograms
Compute Statistics Histograms
Get Samples
Compute Class Statistics
Query Boundary
Compute Pixel Location
Compute Angles
Validate
Project